BEGIN:VCALENDAR
PRODID:-//Microsoft Corporation//Outlook 12.0 MIMEDIR//EN
VERSION:2.0
CALSCALE:GREGORIAN
BEGIN:VEVENT
UID: 2d6e9be7-3ef4-4e51-a354-e3a4a66e4240
SUMMARY:Sisseastumistest
DTSTAMP:20240406T100000
DTSTART:20240406T100000
DTEND:20240406T130000
LOCATION:Rae Gümnaasium
DESCRIPTION: <h5>Test sooritatakse veebikeskkonnas eis.ekk.edu.ee.</h5><p>Olenevalt G1 lennu õppija kandidaadiks registreerujate arvust viiakse test läbi kahes vahetuses Rae Gümnaasiumis ja/või koostöös Rae valla koolidega. Esimene vahetus sooritab testi kell 10-13, teine vahetus kell 14-17. Testi aeg ja koht teavitatakse sisseastumiskeskkonnas. Jooksva info vastuvõtu kohta leiab menüülingilt&nbsp;<a href="https://rae.edu.ee/vastuvott/vastuvott-g1-lendu">Vastuvõtt</a>.</p><p><em>Oleme liitunud Harjumaa ja Tallinna (HarTa) ühiskatsetega, mille eesmärk&nbsp;on võimaldada üheksanda klassi õppijal kandideerida ühise sisseastumistesti tulemustega Rae Gümnaasiumi, Saue Riigigümnaasiumi, Tabasalu Gümnaasiumi, Viimsi Gümnaasiumi, Tallinna Mustamäe Riigigümnaasiumi, Tallinna Pelgulinna Riigigümnaasiumi ja Tallinna Tõnismäe Riigigümnaasiumi kümnendasse klassi. Õppija saab kandideerida kuni kolme kooli seitsmest, tehes sisseastumiskeskkonnas&nbsp;<strong>sisseastumine.ee</strong>&nbsp;vastavad valikud</em>.</p><p><strong>Link: </strong>https://rae.edu.ee/sundmuste-kalender/sisseastumistest</p><p><strong>Hind: </strong></p>
STATUS:CONFIRMED
SEQUENCE:3
X-ALT-DESC;FMTTYPE=text/html:<h5>Test sooritatakse veebikeskkonnas eis.ekk.edu.ee.</h5><p>Olenevalt G1 lennu õppija kandidaadiks registreerujate arvust viiakse test läbi kahes vahetuses Rae Gümnaasiumis ja/või koostöös Rae valla koolidega. Esimene vahetus sooritab testi kell 10-13, teine vahetus kell 14-17. Testi aeg ja koht teavitatakse sisseastumiskeskkonnas. Jooksva info vastuvõtu kohta leiab menüülingilt&nbsp;<a href="https://rae.edu.ee/vastuvott/vastuvott-g1-lendu">Vastuvõtt</a>.</p><p><em>Oleme liitunud Harjumaa ja Tallinna (HarTa) ühiskatsetega, mille eesmärk&nbsp;on võimaldada üheksanda klassi õppijal kandideerida ühise sisseastumistesti tulemustega Rae Gümnaasiumi, Saue Riigigümnaasiumi, Tabasalu Gümnaasiumi, Viimsi Gümnaasiumi, Tallinna Mustamäe Riigigümnaasiumi, Tallinna Pelgulinna Riigigümnaasiumi ja Tallinna Tõnismäe Riigigümnaasiumi kümnendasse klassi. Õppija saab kandideerida kuni kolme kooli seitsmest, tehes sisseastumiskeskkonnas&nbsp;<strong>sisseastumine.ee</strong>&nbsp;vastavad valikud</em>.</p><p><strong>Link: </strong>https://rae.edu.ee/sundmuste-kalender/sisseastumistest</p><p><strong>Hind: </strong></p>
X-MICROSOFT-CDO-BUSYSTATUS:OOF
X-MICROSOFT-CDO-IMPORTANCE:1
X-MICROSOFT-DISALLOW-COUNTER:FALSE
X-MS-OLK-ALLOWEXTERNCHECK:TRUE
X-MS-OLK-CONFTYPE:0
X-MICROSOFT-CDO-ALLDAYEVENT:
X-MICROSOFT-MSNCALENDAR-ALLDAYEVENT:
END:VEVENT
END:VCALENDAR