BEGIN:VCALENDAR
PRODID:-//Microsoft Corporation//Outlook 12.0 MIMEDIR//EN
VERSION:2.0
CALSCALE:GREGORIAN
BEGIN:VEVENT
UID: 0d3244fc-e767-487a-8dd6-c8836b0a6e71
SUMMARY:Koolipere tunnustamine ning G1 ja G2 õppeaasta lõpuaktus
DTSTAMP:20250606T113000
DTSTART:20250606T113000
DTEND:20250606T123000
LOCATION:Rae Gümnaasium
DESCRIPTION: <p><span>Ootame Sind Rae Gümnaasiumi õppeaasta lõpuaktusele 6. juunil algusega kell 11:30 aatriumis, kus</span><br><br><span>1. vaatame ära Rae Orbiidi kolmanda telesaate, mis toob ekraanile kooliaasta pööraseimad lood ja paljastab varjatud saladused;</span><br><span>2. tunnustame lõppeva õppeaasta tublimaid;</span><br><span>3. kuulame pop-rock bändi “Kõrvalmõju”, mille kaks liiget õpivad meie koolis.</span><br><br><span>Ole kohal, läheme rokkides suvele vastu!🔥🤘</span></p><p><span><strong>Koolipäev ja õppetundide ajad 6. juunil:</strong></span><br><span>1. tund kell 9.00–10.00</span><br><span>2. tund kell 10.10–11.10</span><br><span>Kasulik aeg kell 11.10–12.30</span><br>🎊Lõpuaktus<span> kell 11.30–12.30🎊</span><br>&nbsp;</p><p>Pärastlõunased tunnid kokkuleppel valikkursuse õpetajatega.</p><p><span>Foto autor Hans Albert William Portsmuth.</span></p><p><strong>Link: </strong>https://rae.edu.ee/sundmuste-kalender/koolipere-tunnustamine-ning-g1-ja-g2-oppeaasta-lopuaktus</p><p><strong>Hind: </strong></p>
STATUS:CONFIRMED
SEQUENCE:3
X-ALT-DESC;FMTTYPE=text/html:<p><span>Ootame Sind Rae Gümnaasiumi õppeaasta lõpuaktusele 6. juunil algusega kell 11:30 aatriumis, kus</span><br><br><span>1. vaatame ära Rae Orbiidi kolmanda telesaate, mis toob ekraanile kooliaasta pööraseimad lood ja paljastab varjatud saladused;</span><br><span>2. tunnustame lõppeva õppeaasta tublimaid;</span><br><span>3. kuulame pop-rock bändi “Kõrvalmõju”, mille kaks liiget õpivad meie koolis.</span><br><br><span>Ole kohal, läheme rokkides suvele vastu!🔥🤘</span></p><p><span><strong>Koolipäev ja õppetundide ajad 6. juunil:</strong></span><br><span>1. tund kell 9.00–10.00</span><br><span>2. tund kell 10.10–11.10</span><br><span>Kasulik aeg kell 11.10–12.30</span><br>🎊Lõpuaktus<span> kell 11.30–12.30🎊</span><br>&nbsp;</p><p>Pärastlõunased tunnid kokkuleppel valikkursuse õpetajatega.</p><p><span>Foto autor Hans Albert William Portsmuth.</span></p><p><strong>Link: </strong>https://rae.edu.ee/sundmuste-kalender/koolipere-tunnustamine-ning-g1-ja-g2-oppeaasta-lopuaktus</p><p><strong>Hind: </strong></p>
X-MICROSOFT-CDO-BUSYSTATUS:OOF
X-MICROSOFT-CDO-IMPORTANCE:1
X-MICROSOFT-DISALLOW-COUNTER:FALSE
X-MS-OLK-ALLOWEXTERNCHECK:TRUE
X-MS-OLK-CONFTYPE:0
X-MICROSOFT-CDO-ALLDAYEVENT:
X-MICROSOFT-MSNCALENDAR-ALLDAYEVENT:
END:VEVENT
END:VCALENDAR