BEGIN:VCALENDAR
PRODID:-//Microsoft Corporation//Outlook 12.0 MIMEDIR//EN
VERSION:2.0
CALSCALE:GREGORIAN
BEGIN:VEVENT
UID: 6c0fadc6-ca83-4d48-87be-a6a2705030ff
SUMMARY:Sisseastumisvestlused G1 tasemele
DTSTAMP:20240416T000000
DTSTART:20240416T000000
DTEND:20240426T000000
LOCATION:Rae Gümnaasium
DESCRIPTION: <h5>Sisseastumisvestlusel saavad osaleda kõik testile pääsenud Rae Gümnaasiumi 1. eelistuse kandidaadid</h5><p>Vestlused toimuvad 16. ja 17. aprilil, 22.-23. aprillil ja 25.-26. aprillil. Vestluse aja saavad kandidaadid valida sisseastumiskeskkonnast pärast kutse saamist vestlusele.</p><p><span><span><span><span><span><span>Vestlused toimuvad Rae Gümnaasiumis (Aruküla tee 22, Jüri alevik).</span></span></span></span></span></span></p><p><span><span><span><span><span><span>Vestlus toimub gruppides, kus osalevad kolm sisseastujat ja kaks vastuvõtukomisjoni liiget. Vestluseks on arvestatud 30 minutit.</span></span></span></span></span></span></p><p><span><span><span><span><span><span>Sisseastumisvestluse eesmärk on hinnata minapädevust (0-5 punkti) ja sotsiaalset pädevust (0-5 punkti). </span></span></span></span></span></span></p><p><span><span><span><span><span><span>Palume kandidaadil olla kohal 5 minutit enne oma vestluse aega ja võtta kaasa vahetusjalanõud.</span></span></span></span></span></span></p><p>&nbsp;</p><p><br />&nbsp;</p><p><strong>Link: </strong>https://rae.edu.ee/sundmuste-kalender/sisseastumisvestlused-g1-tasemele</p><p><strong>Hind: </strong></p>
STATUS:CONFIRMED
SEQUENCE:3
X-ALT-DESC;FMTTYPE=text/html:<h5>Sisseastumisvestlusel saavad osaleda kõik testile pääsenud Rae Gümnaasiumi 1. eelistuse kandidaadid</h5><p>Vestlused toimuvad 16. ja 17. aprilil, 22.-23. aprillil ja 25.-26. aprillil. Vestluse aja saavad kandidaadid valida sisseastumiskeskkonnast pärast kutse saamist vestlusele.</p><p><span><span><span><span><span><span>Vestlused toimuvad Rae Gümnaasiumis (Aruküla tee 22, Jüri alevik).</span></span></span></span></span></span></p><p><span><span><span><span><span><span>Vestlus toimub gruppides, kus osalevad kolm sisseastujat ja kaks vastuvõtukomisjoni liiget. Vestluseks on arvestatud 30 minutit.</span></span></span></span></span></span></p><p><span><span><span><span><span><span>Sisseastumisvestluse eesmärk on hinnata minapädevust (0-5 punkti) ja sotsiaalset pädevust (0-5 punkti). </span></span></span></span></span></span></p><p><span><span><span><span><span><span>Palume kandidaadil olla kohal 5 minutit enne oma vestluse aega ja võtta kaasa vahetusjalanõud.</span></span></span></span></span></span></p><p>&nbsp;</p><p><br />&nbsp;</p><p><strong>Link: </strong>https://rae.edu.ee/sundmuste-kalender/sisseastumisvestlused-g1-tasemele</p><p><strong>Hind: </strong></p>
X-MICROSOFT-CDO-BUSYSTATUS:OOF
X-MICROSOFT-CDO-IMPORTANCE:1
X-MICROSOFT-DISALLOW-COUNTER:FALSE
X-MS-OLK-ALLOWEXTERNCHECK:TRUE
X-MS-OLK-CONFTYPE:0
X-MICROSOFT-CDO-ALLDAYEVENT:
X-MICROSOFT-MSNCALENDAR-ALLDAYEVENT:
END:VEVENT
END:VCALENDAR